BEGIN:VCALENDAR
VERSION:2.0
CALSCALE:GREGORIAN
METHOD:PUBLISH
PRODID://TLCC//979475
BEGIN:VEVENT
DTSTAMP:20260423T010259
VTIMEZONE:America/Denver
DTSTART:20200824T140000Z
DTEND:20200824T193000Z
UID:979475
SUMMARY:Bryson's Chase 2nd Annual Charity Golf Tournament presented by Mortgage Solutions Financial
LOCATION:Country Club of Colorado, 125 Clubhouse Dr., Colorado Springs, CO, 80906
DESCRIPTION:Bryson's Chase 2nd Annual Charity Golf Tournament presented by Mortgage Solutions Financial\n\n08/24/20 08:00 AM MST\n - 08/24/20 01:30 PM MST\Description:\nWe are so very excited to announce our 2nd Annual Bryson's Chase Charity Golf Tournament presented by Mortgage Solutions Financial, benefiting Children's Hospital Colorado Pediatric Mental Health Institute. It will be held on Monday, August 24, 2020 at the Country Club of Colorado with an 8 am shotgun start. This event is shaping up to be even bigger and better than last year! We have many of the same fun activities as we did last year, as well as some new surprises in store! Lots of on course games, prizes, 50/50 raffle and an amazing silent auction. Win a Porsche Cayman on our Hole in One contest! Register TODAY!\n\nIt is the mission of Bryson’s Chase Foundation to raise funds for families with children in need of mental health care. We exist to help future generations build valuable coping mechanisms in order to avoid tragic and extreme alternatives such as substance abuse, criminal behavior, and suicide.\Details:\nWe are so very excited to announce our 2nd Annual Bryson's Chase Charity Golf Tournament presented by Mortgage Solutions Financial, benefiting Children's Hospital Colorado Pediatric Mental Health Institute. It will be held on Monday, August 24, 2020 at the Country Club of Colorado with an 8 am shotgun start. This event is shaping up to be even bigger and better than last year! We have many of the same fun activities as we did last year, as well as some new surprises in store! Lots of on course games, prizes, 50/50 raffle and an amazing silent auction. Win a Porsche Cayman on our Hole in One contest! Register TODAY!\n\nIt is the mission of Bryson’s Chase Foundation to raise funds for families with children in need of mental health care. We exist to help future generations build valuable coping mechanisms in order to avoid tragic and extreme alternatives such as substance abuse, criminal behavior, and suicide.\Location:\nCountry Club of Colorado\n125 Clubhouse Dr.\nColorado Springs, CO 80906
X-ALT-DESC;FMTTYPE=text/html:Bryson's Chase 2nd Annual Charity Golf Tournament presented by Mortgage Solutions Financial<br /><br />08/24/20 08:00 AM MST - 08/24/20 01:30 PM MST<br />Description:<br /><span style="font-size:14px;"><span style="font-family:comic sans ms,noteworthy,sans-serif;"><strong>We are so very excited to announce our 2nd Annual Bryson's Chase Charity Golf Tournament presented by Mortgage Solutions Financial, benefiting Children's Hospital Colorado Pediatric Mental Health Institute. It will be held on Monday, August 24, 2020 at the Country Club of Colorado with an 8 am shotgun start. This event is shaping up to be even bigger and better than last year! We have many of the same fun activities as we did last year, as well as some new surprises in store! Lots of on course games, prizes, 50/50 raffle and an amazing silent auction. Win a Porsche Cayman on our Hole in One contest! Register TODAY!<br />
<br />
It is the mission of Bryson&rsquo;s Chase Foundation to raise funds for families with children in need of mental health care. We exist to help future generations build valuable coping mechanisms in order to avoid tragic and extreme alternatives such as substance abuse, criminal behavior, and suicide.</strong></span></span><br />Details:<br /><strong>We are so very excited to announce our 2nd Annual Bryson's Chase Charity Golf Tournament presented by Mortgage Solutions Financial, benefiting Children's Hospital Colorado Pediatric Mental Health Institute. It will be held on Monday, August 24, 2020 at the Country Club of Colorado with an 8 am shotgun start. This event is shaping up to be even bigger and better than last year! We have many of the same fun activities as we did last year, as well as some new surprises in store! Lots of on course games, prizes, 50/50 raffle and an amazing silent auction. Win a Porsche Cayman on our Hole in One contest! Register TODAY!<br />
<br />
It is the mission of Bryson&rsquo;s Chase Foundation to raise funds for families with children in need of mental health care. We exist to help future generations build valuable coping mechanisms in order to avoid tragic and extreme alternatives such as substance abuse, criminal behavior, and suicide.</strong><br />Location:<br />Country Club of Colorado<br />125 Clubhouse Dr.<br />Colorado Springs, CO 80906
PRIORITY:3
TRANSP:TRANSPARENT
BEGIN:VALARM
TRIGGER:-PT5M
ACTION:DISPLAY
DESCRIPTION:Reminder
END:VALARM
END:VEVENT
END:VCALENDAR
