BEGIN:VCALENDAR
VERSION:2.0
CALSCALE:GREGORIAN
METHOD:PUBLISH
PRODID://TLCC//930503
BEGIN:VEVENT
DTSTAMP:20260419T151756
VTIMEZONE:America/Denver
DTSTART:20200212T000000Z
DTEND:20200212T014500Z
UID:930503
SUMMARY:High Altitude Gardening class
LOCATION:Tri-Lakes Chamber of Commerce, 166 Second Street, Monument, CO, 80132
DESCRIPTION:High Altitude Gardening class\n\n02/11/20 05:00 PM MST\n - 02/11/20 06:45 PM MST\Description:\nWant to learn more about gardening in our unique, beautiful, and sometimes challenging environment? The Town of Monument is offering this free course, covering best practices and plant selection to handle wildlife and wild weather. In order to allow us to anticipate size of class, please sign up using the links provided at http://townofmonument.org/488/Gardening-and-Landscape-Classes.\n\Details:\nFree to the public. Registration required.\Location:\nTri-Lakes Chamber of Commerce\n166 Second Street\nMonument, CO 80132
X-ALT-DESC;FMTTYPE=text/html:High Altitude Gardening class<br /><br />02/11/20 05:00 PM MST - 02/11/20 06:45 PM MST<br />Description:<br /><p style="margin: 0in 0in 8pt;"><span en="" lang="EN" style="padding: 0in; border: 1pt windowtext; border-image: none; color: black; font-family:;"><font size="3">Want to learn more about gardening in our unique, beautiful, and sometimes challenging environment? The Town of Monument is offering this free course, covering best practices and plant selection to handle wildlife and wild weather. In order to allow us to anticipate size of class, please sign up using the links provided at </font></span><a href="http://townofmonument.org/488/Gardening-and-Landscape-Classes">http://townofmonument.org/488/Gardening-and-Landscape-Classes.</a></p>
<br />Details:<br />Free to the public. Registration required.<br />Location:<br />Tri-Lakes Chamber of Commerce<br />166 Second Street<br />Monument, CO 80132
PRIORITY:3
TRANSP:TRANSPARENT
BEGIN:VALARM
TRIGGER:-PT5M
ACTION:DISPLAY
DESCRIPTION:Reminder
END:VALARM
END:VEVENT
END:VCALENDAR
