BEGIN:VCALENDAR
VERSION:2.0
CALSCALE:GREGORIAN
METHOD:PUBLISH
PRODID://TLCC//795529
BEGIN:VEVENT
DTSTAMP:20260420T212220
VTIMEZONE:America/Denver
DTSTART:20190330T180000Z
DTEND:20190330T210000Z
UID:795529
SUMMARY:Junior Naturalist Day!
LOCATION:Bear Creek Nature Center, 245 Bear Creek Road, Colorado Springs, CO, 80906
DESCRIPTION:Junior Naturalist Day!\n\n03/30/19 12:00 PM MST\n - 03/30/19 03:00 PM MST\Description:\nWe’re celebrating our new Junior Naturalist program with a day of exploration! Join us for guided hikes, touch tables and educational exhibits. Junior naturalist field journals are $2 and come with a badge when you complete the requirements! Recommended for children ages 7-12 and their families. Guided hikes offered every hour, limited number of spots available.\Details:\nFree but reservations required.\Location:\nBear Creek Nature Center\n245 Bear Creek Road\nColorado Springs, CO 80906
X-ALT-DESC;FMTTYPE=text/html:Junior Naturalist Day!<br /><br />03/30/19 12:00 PM MST - 03/30/19 03:00 PM MST<br />Description:<br />We&rsquo;re celebrating our new Junior Naturalist program with a day of exploration! Join us for guided hikes, touch tables and educational exhibits. Junior naturalist field journals are $2 and come with a badge when you complete the requirements! Recommended for children ages 7-12 and their families. Guided hikes offered every hour, limited number of spots available.<br />Details:<br />Free but reservations required.<br />Location:<br />Bear Creek Nature Center<br />245 Bear Creek Road<br />Colorado Springs, CO 80906
PRIORITY:3
TRANSP:TRANSPARENT
BEGIN:VALARM
TRIGGER:-PT5M
ACTION:DISPLAY
DESCRIPTION:Reminder
END:VALARM
END:VEVENT
END:VCALENDAR
