BEGIN:VCALENDAR
VERSION:2.0
CALSCALE:GREGORIAN
METHOD:PUBLISH
PRODID://TLCC//1400705
BEGIN:VEVENT
DTSTAMP:20260419T082751
VTIMEZONE:America/Denver
DTSTART:20260131T153000Z
DTEND:20260131T193000Z
UID:1400705
SUMMARY:Faith Roar
LOCATION:MCM ElegantÃ© Suites, 6450 N Academy Blvd, Colorado Springs, CO, 80918
DESCRIPTION:Faith Roar\n\n01/31/26 08:30 AM MST\n - 01/31/26 12:30 PM MST\Description:\nThe first ever Faith Roar event is happening in Colorado Springs on January 31, 2026. Come be inspired by influential and successful speakers in your community, and learn how to get more out of life. At Faith Roar, you’ll learn how to grow your income so you can have a greater impact for God’s kingdom. You’ll gain practical steps to help you become financially secure and financially free. You’ll discover how to find success in business, investing, and managing your money. Faith Roar is the place to discover your path to financial freedom, and learn how to increase your income, pay off your debt, and spend more time with your family doing the things you love.\Details:\nGeneral Admission Tickets are $29.\nEarly Bird Sale! Get tickets for just $19 when you register by January 24.\n\nDoors open at 8:30am. Event starts promptly at 8:45am.\n\nSpeakers\nJeremy Holmes, ActionCOACH\nDave Geffre, Budge-It Money Management\nScott Curry, Faith Roar\n \Location:\nMCM ElegantÃ© Suites\n6450 N Academy Blvd\nColorado Springs, CO 80918
X-ALT-DESC;FMTTYPE=text/html:Faith Roar<br /><br />01/31/26 08:30 AM MST - 01/31/26 12:30 PM MST<br />Description:<br />The first ever Faith Roar event is happening in Colorado Springs on January 31, 2026. Come be inspired by influential and successful speakers in your community, and learn how to get more out of life. At Faith Roar, you&rsquo;ll learn how to grow your income so you can have a greater impact for God&rsquo;s kingdom. You&rsquo;ll gain practical steps to help you become financially secure and financially free. You&rsquo;ll discover how to find success in business, investing, and managing your money. Faith Roar is the place to discover your path to financial freedom, and learn how to increase your income, pay off your debt, and spend more time with your family doing the things you love.<br />Details:<br />General Admission Tickets are $29.<br />
<span style="color:#FF0000"><strong>Early Bird Sale!&nbsp;</strong></span><strong>Get tickets for just $19</strong> when you register by January 24.<br />
<br />
Doors open at 8:30am. Event starts promptly at 8:45am.<br />
<br />
<strong>Speakers</strong><br />
Jeremy Holmes<em>, ActionCOACH</em><br />
Dave Geffre<em>, Budge-It Money Management</em><br />
Scott Curry<em>, Faith Roar</em><br />
&nbsp;<br />Location:<br />MCM ElegantÃ© Suites<br />6450 N Academy Blvd<br />Colorado Springs, CO 80918
PRIORITY:3
TRANSP:TRANSPARENT
BEGIN:VALARM
TRIGGER:-PT5M
ACTION:DISPLAY
DESCRIPTION:Reminder
END:VALARM
END:VEVENT
END:VCALENDAR
